BEGIN:VCALENDAR
VERSION:2.0
PRODID:-//RIGHTHERE//CALENDARIZE IT V3.2//EN
BEGIN:VTIMEZONE
TZID:America/Los_Angeles
X-MICROSOFT-CDO-TZID:13
BEGIN:STANDARD
DTSTART:20251102T090000
TZOFFSETFROM:-0700
TZOFFSETTO:-0800
TZNAME:PST
END:STANDARD
BEGIN:DAYLIGHT
DTSTART:20260308T100000
TZOFFSETFROM:-0800
TZOFFSETTO:-0700
TZNAME:PDT
END:DAYLIGHT
BEGIN:STANDARD
DTSTART:20261101T090000
TZOFFSETFROM:-0700
TZOFFSETTO:-0800
TZNAME:PST
END:STANDARD
END:VTIMEZONE
BEGIN:VEVENT
UID:4513-events@stmirvine.org
DTSTART;TZID=America/Los_Angeles:20190925T183000
DTEND;TZID=America/Los_Angeles:20190925T193000
DTSTAMP;TZID=America/Los_Angeles:20190817T175013
SUMMARY:REP First Communion 2
RRULE:FREQ=WEEKLY;INTERVAL=1;UNTIL=20200520
EXDATE:20191128T013000Z,20191226T013000Z,20200102T013000Z,20200227T013000Z,
 20200319T013000Z,20200402T013000Z,20200416T013000Z
URL:https://stmirvine.org/events/rep-first-communion-2-21/
ORGANIZER;CN=Religious Education Program:MAILTO:rep@stmirvine.org
LOCATION:St Nicholas Room
END:VEVENT
END:VCALENDAR